BEGIN:VCALENDAR
VERSION:2.0
PRODID:spatie/icalendar-generator
DESCRIPTION:Events from FAMOUS OLD TIME MUSIC  and  Vernon McIntyre&amp;rsquo\;
 s APPALACHIAN GRASS
X-WR-CALDESC:Events from FAMOUS OLD TIME MUSIC  and  Vernon McIntyre&amp;rsquo\
 ;s APPALACHIAN GRASS
REFRESH-INTERVAL;VALUE=DURATION:PT1440M
X-PUBLISHED-TTL:PT1440M
BEGIN:VTIMEZONE
TZID:America/Kentucky/Louisville
BEGIN:STANDARD
DTSTART:20221106T020000Z
TZOFFSETFROM:-0400
TZOFFSETTO:-0500
END:STANDARD
BEGIN:DAYLIGHT
DTSTART:20230312T020000Z
TZOFFSETFROM:-0500
TZOFFSETTO:-0400
END:DAYLIGHT
BEGIN:STANDARD
DTSTART:20231105T020000Z
TZOFFSETFROM:-0400
TZOFFSETTO:-0500
END:STANDARD
END:VTIMEZONE
BEGIN:VTIMEZONE
TZID:UTC
BEGIN:STANDARD
DTSTART:20250725T055726Z
TZOFFSETFROM:+0000
TZOFFSETTO:+0000
END:STANDARD
END:VTIMEZONE
BEGIN:VEVENT
UID:357-24
DTSTAMP:20260421T055726Z
SUMMARY:Sawyer Point Summer Concert
LOCATION:Sawyer Point 705 E. Pete Rose Way  Cincinnati OH 45202
ORGANIZER;CN=Kitty:MAILTO:fotmc@iglou.com
DTSTART;TZID=America/Kentucky/Louisville:20230603T160000
DTEND;TZID=America/Kentucky/Louisville:20230603T220000
X-ALT-DESC;FMTTYPE=TEXT/HTML:The Best bands from near and far gather at Saw
 yer Point for a summer of music. Enjoy music\, food\, family friendly game
 s\, and even fourth of July fireworks at Sawyer Point Summer Concert Serie
 s. 6/3/2023 - Vernon Mcintyre's Appalachian Grass (4:30pm-6:00) 6/3/2023 -
  Jake speed and the Freddies (6pm-7:30) 6/3/2023 - Henhouse Prowlers (8:30
 pm-10pm) https://www.cincinnati-oh.gov/cincyparks/visit-a-park/parks-event
 s-calendar/sawyer-point-summer-concert-series2/
CATEGORIES:General
URL;VALUE=URI:https://www.fotmc.com/calendar/?mc_id=357&#038;vcal=357
END:VEVENT
END:VCALENDAR