BEGIN:VCALENDAR
VERSION:2.0
PRODID:spatie/icalendar-generator
DESCRIPTION:Events from FAMOUS OLD TIME MUSIC  and  Vernon McIntyre&amp;rsquo\;
 s APPALACHIAN GRASS
X-WR-CALDESC:Events from FAMOUS OLD TIME MUSIC  and  Vernon McIntyre&amp;rsquo\
 ;s APPALACHIAN GRASS
REFRESH-INTERVAL;VALUE=DURATION:PT1440M
X-PUBLISHED-TTL:PT1440M
BEGIN:VTIMEZONE
TZID:America/Kentucky/Louisville
BEGIN:DAYLIGHT
DTSTART:20240310T020000Z
TZOFFSETFROM:-0500
TZOFFSETTO:-0400
END:DAYLIGHT
BEGIN:STANDARD
DTSTART:20241103T020000Z
TZOFFSETFROM:-0400
TZOFFSETTO:-0500
END:STANDARD
BEGIN:DAYLIGHT
DTSTART:20250309T020000Z
TZOFFSETFROM:-0500
TZOFFSETTO:-0400
END:DAYLIGHT
END:VTIMEZONE
BEGIN:VTIMEZONE
TZID:UTC
BEGIN:STANDARD
DTSTART:20250728T163329Z
TZOFFSETFROM:+0000
TZOFFSETTO:+0000
END:STANDARD
END:VTIMEZONE
BEGIN:VEVENT
UID:453-75
DTSTAMP:20260424T163329Z
SUMMARY:Vinoklet Art and Wine Festival
LOCATION:Vinoklet Winery 11069 Colerain Ave in Cincinnati\, OH  45252 1106
 9 Colerain Ave  Cincinnati OH 45252
ORGANIZER;CN=admin:MAILTO:fotmc@iglou.com
DTSTART;TZID=America/Kentucky/Louisville:20240907T120000
DTEND;TZID=America/Kentucky/Louisville:20240907T150000
X-ALT-DESC;FMTTYPE=TEXT/HTML:Enjoy dancing\, singing\, shopping\, playing\,
  and generally having lots of free fun in one of the most beautiful places
  in Cincinnati!  The Art and Wine Festival opens Friday\, September 6 and
  runs through Sunday\, September 8    .  Appalachian Grass performs Sa
 turday\, from noon til 3pm.  Other fine bands perform throughout the rest
  of the weekend.&amp;hellip\;
CATEGORIES:General
URL;VALUE=URI:https://www.fotmc.com/calendar/?mc_id=453&#038;vcal=453
END:VEVENT
END:VCALENDAR